BEGIN:VCALENDAR
VERSION:2.0
PRODID:spatie/icalendar-generator
DESCRIPTION:Events from Taiwan in Vienna
X-WR-CALDESC:Events from Taiwan in Vienna
REFRESH-INTERVAL;VALUE=DURATION:PT1440M
X-PUBLISHED-TTL:PT1440M
BEGIN:VTIMEZONE
TZID:Europe/Vienna
BEGIN:DAYLIGHT
DTSTART:20250330T020000Z
TZOFFSETFROM:+0100
TZOFFSETTO:+0200
END:DAYLIGHT
BEGIN:STANDARD
DTSTART:20251026T030000Z
TZOFFSETFROM:+0200
TZOFFSETTO:+0100
END:STANDARD
END:VTIMEZONE
BEGIN:VTIMEZONE
TZID:UTC
BEGIN:STANDARD
DTSTART:20250726T215437Z
TZOFFSETFROM:+0000
TZOFFSETTO:+0000
END:STANDARD
END:VTIMEZONE
BEGIN:VEVENT
UID:475-437
DTSTAMP:20260422T215437Z
SUMMARY:2025 Vancouver Taiwanese Film Festival (VTWFF)
LOCATION:Vancouver International Film Centre (Vancity Theatre) 1181 Seymour
  St  Vancouver  BC V6B 3M7
ORGANIZER;CN=taiwaninvienna:MAILTO:hans.nussbaumer@taiwaninvienna.com
DTSTART;TZID=Europe/Vienna;VALUE=DATE:20250905
DTEND;TZID=Europe/Vienna;VALUE=DATE:20250907
X-ALT-DESC;FMTTYPE=TEXT/HTML:Although it is very far away\, it is always ni
 ce to read that the Vancouver Taiwanese Film Festival (VTWFF) takes place 
 again. VTWFF is an annual non-profit art and culture initiative started in
  2007. It has been well-received by the Vancouver communities\, and over t
 he years\, has become the largest film festival focusing on Taiwanese&amp;hell
 ip\;
CATEGORIES:Film
URL;VALUE=URI:https://taiwaninvienna.com/mc-events/2025-vancouver-taiwanese
 -film-festival-vtwff/
METHOD:PUBLISH
END:VEVENT
END:VCALENDAR