BEGIN:VCALENDAR
VERSION:2.0
PRODID:spatie/icalendar-generator
DESCRIPTION:Events from Taiwan in Vienna
X-WR-CALDESC:Events from Taiwan in Vienna
REFRESH-INTERVAL;VALUE=DURATION:PT1440M
X-PUBLISHED-TTL:PT1440M
BEGIN:VTIMEZONE
TZID:Europe/Vienna
BEGIN:STANDARD
DTSTART:20181028T030000Z
TZOFFSETFROM:+0200
TZOFFSETTO:+0100
END:STANDARD
BEGIN:DAYLIGHT
DTSTART:20190331T020000Z
TZOFFSETFROM:+0100
TZOFFSETTO:+0200
END:DAYLIGHT
END:VTIMEZONE
BEGIN:VTIMEZONE
TZID:UTC
BEGIN:STANDARD
DTSTART:20250725T165953Z
TZOFFSETFROM:+0000
TZOFFSETTO:+0000
END:STANDARD
END:VTIMEZONE
BEGIN:VEVENT
UID:232-247
DTSTAMP:20260421T165953Z
SUMMARY:Film:  Cape No.7 海角七號
LOCATION:
ORGANIZER;CN=taiwaninvienna:MAILTO:hans.nussbaumer@taiwaninvienna.com
DTSTART;TZID=Europe/Vienna:20190322T193000
DTEND;TZID=Europe/Vienna:20190322T220000
X-ALT-DESC;FMTTYPE=TEXT/HTML:Cape No.7 (海角七號) | 2008 | Taiwan | Dir
 .: Wei Te-Sheng | 129 min | Taiwanese\, Mandarin\, Japanese (with English 
 Subtitles) Cast: Van Fan\, Chie Tanaka\, Kousuke Atari\, Rachel Liang\, Jo
 hnny C.J. Lin\, Ming Hsiung\, Ying Wei-Min\, Ma Nien-hsien\, Joanne Yang S
 ynopsis In the 1940s near the end of the Japanese era of Taiwan\, an&amp;helli
 p\;
CATEGORIES:Film
URL;VALUE=URI:https://taiwaninvienna.com/mc-events/film-cape-no-7-%e6%b5%b7
 %e8%a7%92%e4%b8%83%e8%99%9f/
METHOD:PUBLISH
END:VEVENT
END:VCALENDAR