BEGIN:VCALENDAR
VERSION:2.0
PRODID:spatie/icalendar-generator
DESCRIPTION:Events from Taiwan in Vienna
X-WR-CALDESC:Events from Taiwan in Vienna
REFRESH-INTERVAL;VALUE=DURATION:PT1440M
X-PUBLISHED-TTL:PT1440M
BEGIN:VTIMEZONE
TZID:Europe/Vienna
BEGIN:DAYLIGHT
DTSTART:20170326T020000Z
TZOFFSETFROM:+0100
TZOFFSETTO:+0200
END:DAYLIGHT
BEGIN:STANDARD
DTSTART:20171029T030000Z
TZOFFSETFROM:+0200
TZOFFSETTO:+0100
END:STANDARD
END:VTIMEZONE
BEGIN:VTIMEZONE
TZID:UTC
BEGIN:STANDARD
DTSTART:20250723T124827Z
TZOFFSETFROM:+0000
TZOFFSETTO:+0000
END:STANDARD
END:VTIMEZONE
BEGIN:VEVENT
UID:115-120
DTSTAMP:20260419T124827Z
SUMMARY:Film: Ching shao nien na cha  - Rebels of the Neon God
LOCATION:Kino Arsenal - Berlin Potsdamer Straße 2  Berlin  10785
ORGANIZER;CN=taiwaninvienna:MAILTO:hans.nussbaumer@taiwaninvienna.com
DTSTART;TZID=Europe/Vienna:20170901T200000
DTEND;TZID=Europe/Vienna:20170901T210000
X-ALT-DESC;FMTTYPE=TEXT/HTML:CHING SHAO NIEN NA CHA / REBELS OF THE NEON GO
 D Taiwan 1992 Mit Lee Kang-Sheng DCP OmE 106 min Eröffnung Einführung: 
 James Lattimer Der strömende Regen kennt kein Ende\, und im Kinderzimmer 
 wird eine Kakerlake erlegt. Kleinkriminelle Jugendliche -huldigen dem Neon
 gott in Videospielhallen\, während ein ennuyierter Teenager auf die schul
 ische Optimierung seiner Karrierechancen pfeift\, auf&amp;hellip\;
CATEGORIES:Film
URL;VALUE=URI:https://taiwaninvienna.com/mc-events/film-ching-shao-nien-na-
 cha-rebels-of-the-neon-god/
METHOD:PUBLISH
END:VEVENT
END:VCALENDAR