BEGIN:VCALENDAR
VERSION:2.0
PRODID:spatie/icalendar-generator
DESCRIPTION:Events from Taiwan in Vienna
X-WR-CALDESC:Events from Taiwan in Vienna
REFRESH-INTERVAL;VALUE=DURATION:PT1440M
X-PUBLISHED-TTL:PT1440M
BEGIN:VTIMEZONE
TZID:Europe/Vienna
BEGIN:STANDARD
DTSTART:20181028T030000Z
TZOFFSETFROM:+0200
TZOFFSETTO:+0100
END:STANDARD
BEGIN:DAYLIGHT
DTSTART:20190331T020000Z
TZOFFSETFROM:+0100
TZOFFSETTO:+0200
END:DAYLIGHT
END:VTIMEZONE
BEGIN:VTIMEZONE
TZID:UTC
BEGIN:STANDARD
DTSTART:20250725T091826Z
TZOFFSETFROM:+0000
TZOFFSETTO:+0000
END:STANDARD
END:VTIMEZONE
BEGIN:VEVENT
UID:241-254
DTSTAMP:20260421T091826Z
SUMMARY:Film:  Dear Ex
LOCATION:
ORGANIZER;CN=taiwaninvienna:MAILTO:hans.nussbaumer@taiwaninvienna.com
DTSTART;TZID=Europe/Vienna:20190306T124500
DTEND;TZID=Europe/Vienna:20190306T134500
X-ALT-DESC;FMTTYPE=TEXT/HTML:Dear Ex Taiwan | 2018 | 100 minutes | Family d
 ramedy | Mandarin (English subtitles) Director: Mag Hsu\, Hsu Chih-yen | C
 ast: Roy Chiue\, Hsieh Ying-Xuan\, Spark Chen Inspired by real life charac
 ters\, this entertaining dramedy is a triumphant promotion for Taiwan’s 
 progressive march towards equality in marriage rights. After professor Zhe
 ng Yuan’s death\, his&amp;hellip\;
CATEGORIES:Film
URL;VALUE=URI:https://taiwaninvienna.com/mc-events/film-dear-ex-2/
METHOD:PUBLISH
END:VEVENT
END:VCALENDAR