BEGIN:VCALENDAR
VERSION:2.0
PRODID:spatie/icalendar-generator
DESCRIPTION:Events from Taiwan in Vienna
X-WR-CALDESC:Events from Taiwan in Vienna
REFRESH-INTERVAL;VALUE=DURATION:PT1440M
X-PUBLISHED-TTL:PT1440M
BEGIN:VTIMEZONE
TZID:Europe/Vienna
BEGIN:STANDARD
DTSTART:20181028T030000Z
TZOFFSETFROM:+0200
TZOFFSETTO:+0100
END:STANDARD
BEGIN:DAYLIGHT
DTSTART:20190331T020000Z
TZOFFSETFROM:+0100
TZOFFSETTO:+0200
END:DAYLIGHT
END:VTIMEZONE
BEGIN:VTIMEZONE
TZID:UTC
BEGIN:STANDARD
DTSTART:20250725T092307Z
TZOFFSETFROM:+0000
TZOFFSETTO:+0000
END:STANDARD
END:VTIMEZONE
BEGIN:VEVENT
UID:257-268
DTSTAMP:20260421T092307Z
SUMMARY:Film:  Dragon Inn (龍門客棧)
LOCATION:Curzon Soho London 99 Shaftesbury Avenue  London W1D 5DY
ORGANIZER;CN=taiwaninvienna:MAILTO:hans.nussbaumer@taiwaninvienna.com
DTSTART;TZID=Europe/Vienna:20190403T181500
DTEND;TZID=Europe/Vienna:20190403T191500
X-ALT-DESC;FMTTYPE=TEXT/HTML:Dragon Inn (龍門客棧) | 1967 | Taiwan | Di
 r.: King HU | 111 min - Restored in 4K (2013) | Mandarin About this film D
 ragon Inn is a 1967 wuxia film written and directed by King Hu. One of the
  greatest swordsplay films of all time\, it has inspired a number of film 
 makers of&amp;hellip\;
CATEGORIES:Film
URL;VALUE=URI:https://taiwaninvienna.com/mc-events/film-dragon-inn-%e9%be%8
 d%e9%96%80%e5%ae%a2%e6%a3%a7/
METHOD:PUBLISH
END:VEVENT
END:VCALENDAR