BEGIN:VCALENDAR
VERSION:2.0
PRODID:spatie/icalendar-generator
DESCRIPTION:Events from Taiwan in Vienna
X-WR-CALDESC:Events from Taiwan in Vienna
REFRESH-INTERVAL;VALUE=DURATION:PT1440M
X-PUBLISHED-TTL:PT1440M
BEGIN:VTIMEZONE
TZID:Europe/Vienna
BEGIN:STANDARD
DTSTART:20181028T030000Z
TZOFFSETFROM:+0200
TZOFFSETTO:+0100
END:STANDARD
BEGIN:DAYLIGHT
DTSTART:20190331T020000Z
TZOFFSETFROM:+0100
TZOFFSETTO:+0200
END:DAYLIGHT
END:VTIMEZONE
BEGIN:VTIMEZONE
TZID:UTC
BEGIN:STANDARD
DTSTART:20250725T092137Z
TZOFFSETFROM:+0000
TZOFFSETTO:+0000
END:STANDARD
END:VTIMEZONE
BEGIN:VEVENT
UID:246-259
DTSTAMP:20260421T092137Z
SUMMARY:Film:  Long Time no Sea
LOCATION:Rialto Amsterdam Stichting Amsterdams Filmhuis / Rialto  Ceintuurb
 aan 338 Amsterdam  1072 GN
ORGANIZER;CN=taiwaninvienna:MAILTO:hans.nussbaumer@taiwaninvienna.com
DTSTART;TZID=Europe/Vienna:20190307T190000
DTEND;TZID=Europe/Vienna:20190307T200000
X-ALT-DESC;FMTTYPE=TEXT/HTML:Long time no Sea Taiwan | 2018 | 96 minutes | 
 Children\, ethnic dance | Mandarin\, Tao Dialect (English subtitles) Direc
 tor: Heather Tsui | Cast: Huang Shang-He\, Pangoyad Si a.k.a. Zhong Jia-ju
 n The Tao are an indigenous people of Taiwan who live on Orchid Island. Ma
 nawei (Pangoyod Si) is a young Tao boy left with&amp;hellip\;
CATEGORIES:Film
URL;VALUE=URI:https://taiwaninvienna.com/mc-events/film-long-time-no-sea/
METHOD:PUBLISH
END:VEVENT
END:VCALENDAR