BEGIN:VCALENDAR
VERSION:2.0
PRODID:spatie/icalendar-generator
DESCRIPTION:Events from Taiwan in Vienna
X-WR-CALDESC:Events from Taiwan in Vienna
REFRESH-INTERVAL;VALUE=DURATION:PT1440M
X-PUBLISHED-TTL:PT1440M
BEGIN:VTIMEZONE
TZID:Europe/Vienna
BEGIN:DAYLIGHT
DTSTART:20150329T020000Z
TZOFFSETFROM:+0100
TZOFFSETTO:+0200
END:DAYLIGHT
BEGIN:STANDARD
DTSTART:20151025T030000Z
TZOFFSETFROM:+0200
TZOFFSETTO:+0100
END:STANDARD
BEGIN:DAYLIGHT
DTSTART:20160327T020000Z
TZOFFSETFROM:+0100
TZOFFSETTO:+0200
END:DAYLIGHT
END:VTIMEZONE
BEGIN:VTIMEZONE
TZID:UTC
BEGIN:STANDARD
DTSTART:20250723T185619Z
TZOFFSETFROM:+0000
TZOFFSETTO:+0000
END:STANDARD
END:VTIMEZONE
BEGIN:VEVENT
UID:29-30
DTSTAMP:20260419T185619Z
SUMMARY:Film:  Nie yin niang (The Assassin) Hous Hsiao-Hsien
LOCATION:Gartenbaukino - Wien Parkring 12  Vienna  1010
ORGANIZER;CN=taiwaninvienna:MAILTO:hans.nussbaumer@taiwaninvienna.com
DTSTART;TZID=Europe/Vienna:20151101T203000
DTEND;TZID=Europe/Vienna:20151101T213000
X-ALT-DESC;FMTTYPE=TEXT/HTML:Nie yin niang THE ASSASSIN Hou Hsiao-hsien (Ta
 iwan/China/Hongkong/F 2015) Bis dieses Jahr in Cannes das Geheimnis um den
  ersten Martial-Arts-Film Hou Hsiao-hsiens gelüftet wurde\, rankten sich 
 darum schon Gerüchte und Legenden. Der in großer Schönheit choreografie
 rte Geschichtsfilm erzählt von der jungen\, zur Mörderin erzogenen Kämp
 ferin Nie. Als Kind gekidnappt und zur Schwertkämpferin ausgebildet\, erh
 ält Nie&amp;hellip\;
CATEGORIES:Film
URL;VALUE=URI:https://taiwaninvienna.com/mc-events/film-nie-yin-niang-the-a
 ssassin-hous-hsiao-hsien/
METHOD:PUBLISH
END:VEVENT
END:VCALENDAR