BEGIN:VCALENDAR
VERSION:2.0
PRODID:spatie/icalendar-generator
DESCRIPTION:Events from Taiwan in Vienna
X-WR-CALDESC:Events from Taiwan in Vienna
REFRESH-INTERVAL;VALUE=DURATION:PT1440M
X-PUBLISHED-TTL:PT1440M
BEGIN:VTIMEZONE
TZID:Europe/Vienna
BEGIN:STANDARD
DTSTART:20161030T030000Z
TZOFFSETFROM:+0200
TZOFFSETTO:+0100
END:STANDARD
BEGIN:DAYLIGHT
DTSTART:20170326T020000Z
TZOFFSETFROM:+0100
TZOFFSETTO:+0200
END:DAYLIGHT
BEGIN:STANDARD
DTSTART:20171029T030000Z
TZOFFSETFROM:+0200
TZOFFSETTO:+0100
END:STANDARD
END:VTIMEZONE
BEGIN:VTIMEZONE
TZID:UTC
BEGIN:STANDARD
DTSTART:20250725T092208Z
TZOFFSETFROM:+0000
TZOFFSETTO:+0000
END:STANDARD
END:VTIMEZONE
BEGIN:VEVENT
UID:105-109
DTSTAMP:20260421T092208Z
SUMMARY:Film: Ode To Time [TWFF2017 Vancouver]
LOCATION:Vancouver International Film Centre (Vancity Theatre) 1181 Seymour
  St  Vancouver  BC V6B 3M7
ORGANIZER;CN=taiwaninvienna:MAILTO:hans.nussbaumer@taiwaninvienna.com
DTSTART;TZID=Europe/Vienna:20170609T180000
DTEND;TZID=Europe/Vienna:20170609T200000
X-ALT-DESC;FMTTYPE=TEXT/HTML:&amp;nbsp\; Length: 120 min Director: Chi-Jan Hou 
 Executive producer: Cora Tao Hsiao-Ching Producer: Aileen Li Cast: Shian Y
 ang\, Ara Kimb\, Siao-Cing Tao\, Jian-Fu Li\, James Hou\, Jonathan (Tsung-
 Sheng) Lee\, etc. Genre: Documentary Rating: G Legendary musicians from th
 e Taiwanese folk-rock scene of the 1970s reunite after 40 years for a big 
 concert. Will their songs&amp;hellip\;
CATEGORIES:Film
URL;VALUE=URI:https://taiwaninvienna.com/mc-events/film-ode-to-time-twff201
 7-vancouver/
METHOD:PUBLISH
END:VEVENT
END:VCALENDAR