BEGIN:VCALENDAR
VERSION:2.0
PRODID:spatie/icalendar-generator
DESCRIPTION:Events from Taiwan in Vienna
X-WR-CALDESC:Events from Taiwan in Vienna
REFRESH-INTERVAL;VALUE=DURATION:PT1440M
X-PUBLISHED-TTL:PT1440M
BEGIN:VTIMEZONE
TZID:Europe/Vienna
BEGIN:DAYLIGHT
DTSTART:20180325T020000Z
TZOFFSETFROM:+0100
TZOFFSETTO:+0200
END:DAYLIGHT
BEGIN:STANDARD
DTSTART:20181028T030000Z
TZOFFSETFROM:+0200
TZOFFSETTO:+0100
END:STANDARD
BEGIN:DAYLIGHT
DTSTART:20190331T020000Z
TZOFFSETFROM:+0100
TZOFFSETTO:+0200
END:DAYLIGHT
END:VTIMEZONE
BEGIN:VTIMEZONE
TZID:UTC
BEGIN:STANDARD
DTSTART:20250725T111323Z
TZOFFSETFROM:+0000
TZOFFSETTO:+0000
END:STANDARD
END:VTIMEZONE
BEGIN:VEVENT
UID:203-220
DTSTAMP:20260421T111323Z
SUMMARY:Film:  Omotenashi 盛情款待 | おもてなし
LOCATION:
ORGANIZER;CN=taiwaninvienna:MAILTO:hans.nussbaumer@taiwaninvienna.com
DTSTART;TZID=Europe/Vienna:20181013T190000
DTEND;TZID=Europe/Vienna:20181013T200000
X-ALT-DESC;FMTTYPE=TEXT/HTML:Omotenashi 盛情款待 | おもてなし Taiw
 an | 2018 | 95 minutes | Drama\, Romance | Chinese\, Japanese\, English (E
 nglish subtitles) | Dutch premiere Director: Jay Chern Intercultural roman
 ce Embedded deep within Japanese culture\, omotenashi is a concept of prov
 iding hospitality from the heart. Jacky (Wang Po-chieh)\, the son of a Tai
 wanese businessman who bought a ryokan&amp;hellip\;
CATEGORIES:Film
URL;VALUE=URI:https://taiwaninvienna.com/mc-events/film-omotenashi-%e7%9b%9
 b%e6%83%85%e6%ac%be%e5%be%85-%e3%81%8a%e3%82%82%e3%81%a6%e3%81%aa%e3%81%97
 /
METHOD:PUBLISH
END:VEVENT
END:VCALENDAR