BEGIN:VCALENDAR
VERSION:2.0
PRODID:spatie/icalendar-generator
DESCRIPTION:Events from Taiwan in Vienna
X-WR-CALDESC:Events from Taiwan in Vienna
REFRESH-INTERVAL;VALUE=DURATION:PT1440M
X-PUBLISHED-TTL:PT1440M
BEGIN:VTIMEZONE
TZID:Europe/Vienna
BEGIN:STANDARD
DTSTART:20181028T030000Z
TZOFFSETFROM:+0200
TZOFFSETTO:+0100
END:STANDARD
BEGIN:DAYLIGHT
DTSTART:20190331T020000Z
TZOFFSETFROM:+0100
TZOFFSETTO:+0200
END:DAYLIGHT
END:VTIMEZONE
BEGIN:VTIMEZONE
TZID:UTC
BEGIN:STANDARD
DTSTART:20250727T130449Z
TZOFFSETFROM:+0000
TZOFFSETTO:+0000
END:STANDARD
END:VTIMEZONE
BEGIN:VEVENT
UID:238-252
DTSTAMP:20260423T130449Z
SUMMARY:Film:  Pusu Qhuni (餘生-賽德克．巴萊)
LOCATION:Idno Vonarstræti 3 101 Reykjavík
ORGANIZER;CN=taiwaninvienna:MAILTO:hans.nussbaumer@taiwaninvienna.com
DTSTART;TZID=Europe/Vienna:20190323T180000
DTEND;TZID=Europe/Vienna:20190323T213000
X-ALT-DESC;FMTTYPE=TEXT/HTML:Pusu Qhuni (餘生-賽德克．巴萊) | 2014 
 | Taiwan | Dir.: Tang Hsiang-Chu | 154 min | Mandarin\, Seediq Language (w
 ith English Subtitles) Documentary Synopsis Eighty years ago\, the Seediq 
 people living high in Taiwan’s mountains rose up against the oppressive 
 rule of the Japanese government in what went down in history as the “Wus
 he Incident.” Featuring&amp;hellip\;
CATEGORIES:Film
URL;VALUE=URI:https://taiwaninvienna.com/mc-events/film-pusu-qhuni-%e9%a4%9
 8%e7%94%9f-%e8%b3%bd%e5%be%b7%e5%85%8b%ef%bc%8e%e5%b7%b4%e8%90%8a/
METHOD:PUBLISH
END:VEVENT
END:VCALENDAR