BEGIN:VCALENDAR
VERSION:2.0
PRODID:spatie/icalendar-generator
DESCRIPTION:Events from Taiwan in Vienna
X-WR-CALDESC:Events from Taiwan in Vienna
REFRESH-INTERVAL;VALUE=DURATION:PT1440M
X-PUBLISHED-TTL:PT1440M
BEGIN:VTIMEZONE
TZID:Europe/Vienna
BEGIN:DAYLIGHT
DTSTART:20150329T020000Z
TZOFFSETFROM:+0100
TZOFFSETTO:+0200
END:DAYLIGHT
BEGIN:STANDARD
DTSTART:20151025T030000Z
TZOFFSETFROM:+0200
TZOFFSETTO:+0100
END:STANDARD
BEGIN:DAYLIGHT
DTSTART:20160327T020000Z
TZOFFSETFROM:+0100
TZOFFSETTO:+0200
END:DAYLIGHT
END:VTIMEZONE
BEGIN:VTIMEZONE
TZID:UTC
BEGIN:STANDARD
DTSTART:20250725T130250Z
TZOFFSETFROM:+0000
TZOFFSETTO:+0000
END:STANDARD
END:VTIMEZONE
BEGIN:VEVENT
UID:50-52
DTSTAMP:20260421T130250Z
SUMMARY:Film: Sayon's Bell (Hiroshi Shimizu\, 1943)
LOCATION:Vienna Center for Taiwan Studies Spitalgasse 2   Vienna  1090
ORGANIZER;CN=taiwaninvienna:MAILTO:hans.nussbaumer@taiwaninvienna.com
DTSTART;TZID=Europe/Vienna:20151126T183000
DTEND;TZID=Europe/Vienna:20151126T213000
X-ALT-DESC;FMTTYPE=TEXT/HTML:See more on IMDb and Wikipedia After the film:
   Q &amp;amp\; A with Chris Berry\, Vorgelege Open to the public without char
 ge or prior registration Location: Department of East Asian Studies/Sinolo
 gy\, Altes AKH\, Campus\, Spitalgasse 2\, yard 2\, entrance 2.3 Campus Map
CATEGORIES:Film
URL;VALUE=URI:https://taiwaninvienna.com/mc-events/film-sayons-bell-hiroshi
 -shimizu-1943/
METHOD:PUBLISH
END:VEVENT
END:VCALENDAR