BEGIN:VCALENDAR
VERSION:2.0
PRODID:spatie/icalendar-generator
DESCRIPTION:Events from Taiwan in Vienna
X-WR-CALDESC:Events from Taiwan in Vienna
REFRESH-INTERVAL;VALUE=DURATION:PT1440M
X-PUBLISHED-TTL:PT1440M
BEGIN:VTIMEZONE
TZID:Europe/Vienna
BEGIN:STANDARD
DTSTART:20171029T030000Z
TZOFFSETFROM:+0200
TZOFFSETTO:+0100
END:STANDARD
BEGIN:DAYLIGHT
DTSTART:20180325T020000Z
TZOFFSETFROM:+0100
TZOFFSETTO:+0200
END:DAYLIGHT
END:VTIMEZONE
BEGIN:VTIMEZONE
TZID:UTC
BEGIN:STANDARD
DTSTART:20250726T235024Z
TZOFFSETFROM:+0000
TZOFFSETTO:+0000
END:STANDARD
END:VTIMEZONE
BEGIN:VEVENT
UID:186-199
DTSTAMP:20260422T235024Z
SUMMARY:Film:  Spring: The Story of Hsu Chin-Yu (春天 - 許金玉的故
 事)
LOCATION:
ORGANIZER;CN=taiwaninvienna:MAILTO:hans.nussbaumer@taiwaninvienna.com
DTSTART;TZID=Europe/Vienna:20180318T130000
DTEND;TZID=Europe/Vienna:20180318T140000
X-ALT-DESC;FMTTYPE=TEXT/HTML:Spring: The Story of Hsu Chin-Yu (春天 - 許
 金玉的故事) 2002\, Taiwan\, 56 minutes Directed by: 曾文珍\, TSENG
  Wen-Chen (female) In the 1950s\, many Taiwanese intellectuals\, workers a
 nd farmers were suspected by the dictatorial authority of being communist 
 spies. During the so-called White Terror many were either jailed or killed
 . Only a very small number of&amp;hellip\;
CATEGORIES:Film
URL;VALUE=URI:https://taiwaninvienna.com/mc-events/film-spring-the-story-of
 -hsu-chin-yu-%e6%98%a5%e5%a4%a9-%e8%a8%b1%e9%87%91%e7%8e%89%e7%9a%84%e6%95
 %85%e4%ba%8b/
METHOD:PUBLISH
END:VEVENT
END:VCALENDAR