BEGIN:VCALENDAR
VERSION:2.0
PRODID:spatie/icalendar-generator
DESCRIPTION:Events from Taiwan in Vienna
X-WR-CALDESC:Events from Taiwan in Vienna
REFRESH-INTERVAL;VALUE=DURATION:PT1440M
X-PUBLISHED-TTL:PT1440M
BEGIN:VTIMEZONE
TZID:Europe/Vienna
BEGIN:STANDARD
DTSTART:20171029T030000Z
TZOFFSETFROM:+0200
TZOFFSETTO:+0100
END:STANDARD
BEGIN:DAYLIGHT
DTSTART:20180325T020000Z
TZOFFSETFROM:+0100
TZOFFSETTO:+0200
END:DAYLIGHT
BEGIN:STANDARD
DTSTART:20181028T030000Z
TZOFFSETFROM:+0200
TZOFFSETTO:+0100
END:STANDARD
END:VTIMEZONE
BEGIN:VTIMEZONE
TZID:UTC
BEGIN:STANDARD
DTSTART:20250725T125446Z
TZOFFSETFROM:+0000
TZOFFSETTO:+0000
END:STANDARD
END:VTIMEZONE
BEGIN:VEVENT
UID:192-206
DTSTAMP:20260421T125446Z
SUMMARY:Film:  Take me to the Moon
LOCATION:
ORGANIZER;CN=taiwaninvienna:MAILTO:hans.nussbaumer@taiwaninvienna.com
DTSTART;TZID=Europe/Vienna:20180623T180000
DTEND;TZID=Europe/Vienna:20180623T190000
X-ALT-DESC;FMTTYPE=TEXT/HTML:Take me to the Moon “Head held high\, withou
 t leaving a trace of regret.” Wang has had a crush on his close friend E
 mma since high school\, but never found the courage to confess his feeling
 s. Twenty years after\, Emma won a local audition to work under a mega-pro
 ducer in Tokyo\, however\, she has failed&amp;hellip\;
CATEGORIES:Film
URL;VALUE=URI:https://taiwaninvienna.com/mc-events/film-take-me-to-the-moon
 /
METHOD:PUBLISH
END:VEVENT
END:VCALENDAR