BEGIN:VCALENDAR
VERSION:2.0
PRODID:spatie/icalendar-generator
DESCRIPTION:Events from Taiwan in Vienna
X-WR-CALDESC:Events from Taiwan in Vienna
REFRESH-INTERVAL;VALUE=DURATION:PT1440M
X-PUBLISHED-TTL:PT1440M
BEGIN:VTIMEZONE
TZID:Europe/Vienna
BEGIN:DAYLIGHT
DTSTART:20150329T020000Z
TZOFFSETFROM:+0100
TZOFFSETTO:+0200
END:DAYLIGHT
BEGIN:STANDARD
DTSTART:20151025T030000Z
TZOFFSETFROM:+0200
TZOFFSETTO:+0100
END:STANDARD
BEGIN:DAYLIGHT
DTSTART:20160327T020000Z
TZOFFSETFROM:+0100
TZOFFSETTO:+0200
END:DAYLIGHT
END:VTIMEZONE
BEGIN:VTIMEZONE
TZID:UTC
BEGIN:STANDARD
DTSTART:20250725T125947Z
TZOFFSETFROM:+0000
TZOFFSETTO:+0000
END:STANDARD
END:VTIMEZONE
BEGIN:VEVENT
UID:45-47
DTSTAMP:20260421T125947Z
SUMMARY:Lecture: Ann Heylen - Taiwanese Identity and the Film Formosa Betra
 yed
LOCATION:Vienna Center for Taiwan Studies Spitalgasse 2   Vienna  1090
ORGANIZER;CN=taiwaninvienna:MAILTO:hans.nussbaumer@taiwaninvienna.com
DTSTART;TZID=Europe/Vienna:20151111T181500
DTEND;TZID=Europe/Vienna:20151111T191500
X-ALT-DESC;FMTTYPE=TEXT/HTML:Ann Heylen - Taiwanese Identity and the Film F
 ormosa Betrayed A Multilayered Interpretation of Taiwan History In July 20
 09\, the thriller Formosa Betrayed was first screened at the Asian America
 n International Film Festival\, later being released in movie theaters in 
 both the United States and Taiwan. Although the film’s title is taken fr
 om George Kerr's&amp;hellip\;
CATEGORIES:Lecture
URL;VALUE=URI:https://taiwaninvienna.com/mc-events/lecture-ann-heylen-taiwa
 nese-identity-and-the-film-formosa-betrayed/
METHOD:PUBLISH
END:VEVENT
END:VCALENDAR