BEGIN:VCALENDAR
VERSION:2.0
PRODID:spatie/icalendar-generator
DESCRIPTION:Events from Taiwan in Vienna
X-WR-CALDESC:Events from Taiwan in Vienna
REFRESH-INTERVAL;VALUE=DURATION:PT1440M
X-PUBLISHED-TTL:PT1440M
BEGIN:VTIMEZONE
TZID:Europe/Vienna
BEGIN:DAYLIGHT
DTSTART:20150329T020000Z
TZOFFSETFROM:+0100
TZOFFSETTO:+0200
END:DAYLIGHT
BEGIN:STANDARD
DTSTART:20151025T030000Z
TZOFFSETFROM:+0200
TZOFFSETTO:+0100
END:STANDARD
BEGIN:DAYLIGHT
DTSTART:20160327T020000Z
TZOFFSETFROM:+0100
TZOFFSETTO:+0200
END:DAYLIGHT
END:VTIMEZONE
BEGIN:VTIMEZONE
TZID:UTC
BEGIN:STANDARD
DTSTART:20250725T111157Z
TZOFFSETFROM:+0000
TZOFFSETTO:+0000
END:STANDARD
END:VTIMEZONE
BEGIN:VEVENT
UID:46-48
DTSTAMP:20260421T111157Z
SUMMARY:Lecture: Chris Berry - The Japan Complex in Taiwanese Cinema
LOCATION:Vienna Center for Taiwan Studies Spitalgasse 2   Vienna  1090
ORGANIZER;CN=taiwaninvienna:MAILTO:hans.nussbaumer@taiwaninvienna.com
DTSTART;TZID=Europe/Vienna:20151125T181500
DTEND;TZID=Europe/Vienna:20151125T191500
X-ALT-DESC;FMTTYPE=TEXT/HTML:Chris Berry - The Japan Complex in Taiwanese C
 inema In Taiwan\, it used to be common to say that older people who had no
 stalgic memories of the half-century of Japanese colonisation In Taiwan\, 
 it used to be common to say that older people who had nostalgic memories o
 f the half-century of Japanese colonisation (1895-1945) had&amp;hellip\;
CATEGORIES:Lecture
URL;VALUE=URI:https://taiwaninvienna.com/mc-events/lecture-chris-berry-the-
 japan-complex-in-taiwanese-cinema/
METHOD:PUBLISH
END:VEVENT
END:VCALENDAR