BEGIN:VCALENDAR
VERSION:2.0
PRODID:spatie/icalendar-generator
DESCRIPTION:Events from Taiwan in Vienna
X-WR-CALDESC:Events from Taiwan in Vienna
REFRESH-INTERVAL;VALUE=DURATION:PT1440M
X-PUBLISHED-TTL:PT1440M
BEGIN:VTIMEZONE
TZID:Europe/Vienna
BEGIN:STANDARD
DTSTART:20161030T030000Z
TZOFFSETFROM:+0200
TZOFFSETTO:+0100
END:STANDARD
BEGIN:DAYLIGHT
DTSTART:20170326T020000Z
TZOFFSETFROM:+0100
TZOFFSETTO:+0200
END:DAYLIGHT
BEGIN:STANDARD
DTSTART:20171029T030000Z
TZOFFSETFROM:+0200
TZOFFSETTO:+0100
END:STANDARD
END:VTIMEZONE
BEGIN:VTIMEZONE
TZID:UTC
BEGIN:STANDARD
DTSTART:20250729T210655Z
TZOFFSETFROM:+0000
TZOFFSETTO:+0000
END:STANDARD
END:VTIMEZONE
BEGIN:VEVENT
UID:101-104
DTSTAMP:20260425T210655Z
SUMMARY:Music:  Anita Pohl - Bach • Wagner • Beethoven
LOCATION:Musikverein - Wien Musikvereinsplatz 1  Vienna  1010
ORGANIZER;CN=taiwaninvienna:MAILTO:hans.nussbaumer@taiwaninvienna.com
DTSTART;TZID=Europe/Vienna:20170511T200000
DTEND;TZID=Europe/Vienna:20170511T210000
X-ALT-DESC;FMTTYPE=TEXT/HTML:Programm Johann Sebastian Bach - Chromatische 
 Fantasie und Fuge d-Moll\, BWV 903 Wolfram Wagner - Variationen für Isabe
 lla (Uraufführung) Johann Sebastian Bach - Englische Suite Nr. 2 a-Moll\,
  BWV 807 — Pause — Ludwig van Beethoven - 32 Variationen über ein eig
 enes Thema für Klavier c-Moll\, WoO 80 Sonate für Klavier f-Moll\, op. 5
 7\, „Sonata&amp;hellip\;
CATEGORIES:Music
URL;VALUE=URI:https://taiwaninvienna.com/mc-events/music-anita-pohl-bach-%e
 2%80%a2-wagner-%e2%80%a2-beethoven/
METHOD:PUBLISH
END:VEVENT
END:VCALENDAR