BEGIN:VCALENDAR
VERSION:2.0
PRODID:spatie/icalendar-generator
DESCRIPTION:Events from Taiwan in Vienna
X-WR-CALDESC:Events from Taiwan in Vienna
REFRESH-INTERVAL;VALUE=DURATION:PT1440M
X-PUBLISHED-TTL:PT1440M
BEGIN:VTIMEZONE
TZID:Europe/Vienna
BEGIN:STANDARD
DTSTART:20251026T030000Z
TZOFFSETFROM:+0200
TZOFFSETTO:+0100
END:STANDARD
BEGIN:DAYLIGHT
DTSTART:20260329T020000Z
TZOFFSETFROM:+0100
TZOFFSETTO:+0200
END:DAYLIGHT
BEGIN:STANDARD
DTSTART:20261025T030000Z
TZOFFSETFROM:+0200
TZOFFSETTO:+0100
END:STANDARD
END:VTIMEZONE
BEGIN:VTIMEZONE
TZID:UTC
BEGIN:STANDARD
DTSTART:20250725T110144Z
TZOFFSETFROM:+0000
TZOFFSETTO:+0000
END:STANDARD
END:VTIMEZONE
BEGIN:VEVENT
UID:500-442
DTSTAMP:20260421T110144Z
SUMMARY:RED LOTUS - Asian Film Festival Vienna 2026
LOCATION:Stadtkino im Künstlerhaus - Wien Akademiestraße 13  1010 Wien
ORGANIZER;CN=taiwaninvienna:MAILTO:hans.nussbaumer@taiwaninvienna.com
DTSTART;TZID=Europe/Vienna;VALUE=DATE:20260423
DTEND;TZID=Europe/Vienna;VALUE=DATE:20260427
X-ALT-DESC;FMTTYPE=TEXT/HTML:See the article on our website. Already the 5h
  festival edition. 15 great films! In addition we want to focus on one fil
 m with Taiwan reference: Crown Shyness 樹冠羞避 &amp;nbsp\; Program: Pleas
 e visit the organizer's website to find out about any changes -&amp;gt\; Event
 's Website -&amp;gt\; Event's program
CATEGORIES:Film
URL;VALUE=URI:https://taiwaninvienna.com/mc-events/red-lotus-asian-film-fes
 tival-vienna-2026-2/
METHOD:PUBLISH
END:VEVENT
END:VCALENDAR