BEGIN:VCALENDAR
VERSION:2.0
PRODID:spatie/icalendar-generator
DESCRIPTION:Events from Taiwan in Vienna
X-WR-CALDESC:Events from Taiwan in Vienna
REFRESH-INTERVAL;VALUE=DURATION:PT1440M
X-PUBLISHED-TTL:PT1440M
BEGIN:VTIMEZONE
TZID:Europe/Vienna
BEGIN:DAYLIGHT
DTSTART:20200329T020000Z
TZOFFSETFROM:+0100
TZOFFSETTO:+0200
END:DAYLIGHT
BEGIN:STANDARD
DTSTART:20201025T030000Z
TZOFFSETFROM:+0200
TZOFFSETTO:+0100
END:STANDARD
BEGIN:DAYLIGHT
DTSTART:20210328T020000Z
TZOFFSETFROM:+0100
TZOFFSETTO:+0200
END:DAYLIGHT
END:VTIMEZONE
BEGIN:VTIMEZONE
TZID:UTC
BEGIN:STANDARD
DTSTART:20250725T111119Z
TZOFFSETFROM:+0000
TZOFFSETTO:+0000
END:STANDARD
END:VTIMEZONE
BEGIN:VEVENT
UID:367-360
DTSTAMP:20260421T111119Z
SUMMARY:taipeilove* Film Screening November 2020
LOCATION:Admiral Kino Burggasse 119  Vienna  1070
ORGANIZER;CN=taiwaninvienna:MAILTO:hans.nussbaumer@taiwaninvienna.com
DTSTART;TZID=Europe/Vienna:20201211T190000
DTEND;TZID=Europe/Vienna:20201211T213000
X-ALT-DESC;FMTTYPE=TEXT/HTML:Another great film event from Vienna Center fo
 r Taiwan Studies: 19:00-21:30 taipeilove* (2019\, 70 mins) taipeilove* int
 roduction\,  Q&amp;amp\;A with director Lucie Liu Venue: Admiral Cinema More 
 info: taipeilove* on facebook taipeilove* on IMDb Please register here unt
 il Nov 04. Link to event: taipeilove* Announcement from Vienna Center for 
 Taiwan Studies Website Text credit: Vienna Center&amp;hellip\;
CATEGORIES:Event
URL;VALUE=URI:https://taiwaninvienna.com/mc-events/taipeilove-film-screenin
 g-november-2020/
METHOD:PUBLISH
END:VEVENT
END:VCALENDAR