BEGIN:VCALENDAR
VERSION:2.0
PRODID:spatie/icalendar-generator
DESCRIPTION:Events from Taiwan in Vienna
X-WR-CALDESC:Events from Taiwan in Vienna
REFRESH-INTERVAL;VALUE=DURATION:PT1440M
X-PUBLISHED-TTL:PT1440M
BEGIN:VTIMEZONE
TZID:Europe/Vienna
BEGIN:STANDARD
DTSTART:20211031T030000Z
TZOFFSETFROM:+0200
TZOFFSETTO:+0100
END:STANDARD
BEGIN:DAYLIGHT
DTSTART:20220327T020000Z
TZOFFSETFROM:+0100
TZOFFSETTO:+0200
END:DAYLIGHT
BEGIN:STANDARD
DTSTART:20221030T030000Z
TZOFFSETFROM:+0200
TZOFFSETTO:+0100
END:STANDARD
END:VTIMEZONE
BEGIN:VTIMEZONE
TZID:UTC
BEGIN:STANDARD
DTSTART:20250725T170130Z
TZOFFSETFROM:+0000
TZOFFSETTO:+0000
END:STANDARD
END:VTIMEZONE
BEGIN:VEVENT
UID:380-372
DTSTAMP:20260421T170130Z
SUMMARY:Vienna Taiwan Film Screening 2022 - 21th May
LOCATION:Admiral Kino Burggasse 119  Vienna  1070
ORGANIZER;CN=taiwaninvienna:MAILTO:hans.nussbaumer@taiwaninvienna.com
DTSTART;TZID=Europe/Vienna:20220521T154500
DTEND;TZID=Europe/Vienna:20220521T213000
X-ALT-DESC;FMTTYPE=TEXT/HTML:15:45 – 16:00  General Introduction &amp;amp\; 
 Thanks 16:00 – 17:34 Somewhere I have Never Travelled 帶我去遠方 (2
 009) 17.34 - 18.00 Break 18.00 - 19.33 One Day 有一天 (2010) 19.33 - 20
 .00 Break 20.00 - 21.08 Out/Marriage 失婚記 (2012) 21.08 - 21.30 Discus
 sion Venue: Admiral Cinema More info about the films: Somewhere I Have Nev
 er Travelled&amp;hellip\;
CATEGORIES:Event
URL;VALUE=URI:https://taiwaninvienna.com/mc-events/vienna-taiwan-film-scree
 ning-2022-21th-may/
METHOD:PUBLISH
END:VEVENT
END:VCALENDAR